Package: NCIgraphData Version: 1.36.0 Command: /home/biocbuild/bbs-3.17-bioc/R/bin/R CMD build --keep-empty-dirs --no-resave-data NCIgraphData StartedAt: 2023-10-12 10:42:47 -0400 (Thu, 12 Oct 2023) EndedAt: 2023-10-12 10:42:48 -0400 (Thu, 12 Oct 2023) EllapsedTime: 1.0 seconds RetCode: 0 Status: OK PackageFile: NCIgraphData_1.36.0.tar.gz PackageFileSize: 5.253 MiB