Package: MSMB Version: 1.18.0 Command: /home/biocbuild/bbs-3.17-bioc/R/bin/R CMD INSTALL MSMB StartedAt: 2023-10-12 10:01:55 -0400 (Thu, 12 Oct 2023) EndedAt: 2023-10-12 10:01:57 -0400 (Thu, 12 Oct 2023) EllapsedTime: 2.3 seconds RetCode: 0 Status: OK