Package: MSMB Version: 1.18.0 Command: /home/biocbuild/bbs-3.17-bioc/R/bin/R CMD check --install=check:MSMB.install-out.txt --library=/home/biocbuild/bbs-3.17-bioc/R/site-library --timings MSMB_1.18.0.tar.gz StartedAt: 2023-10-12 11:44:48 -0400 (Thu, 12 Oct 2023) EndedAt: 2023-10-12 11:45:07 -0400 (Thu, 12 Oct 2023) EllapsedTime: 18.6 seconds RetCode: 0 Status: OK CheckDir: MSMB.Rcheck Warnings: 0