Package: MSMB Version: 1.18.0 Command: /home/biocbuild/bbs-3.17-bioc/R/bin/R CMD build --keep-empty-dirs --no-resave-data MSMB StartedAt: 2023-10-12 10:41:38 -0400 (Thu, 12 Oct 2023) EndedAt: 2023-10-12 10:41:46 -0400 (Thu, 12 Oct 2023) EllapsedTime: 7.3 seconds RetCode: 0 Status: OK PackageFile: MSMB_1.18.0.tar.gz PackageFileSize: 5.05 MiB