Package: MOFAdata Version: 1.16.1 Command: /home/biocbuild/bbs-3.17-bioc/R/bin/R CMD check --install=check:MOFAdata.install-out.txt --library=/home/biocbuild/bbs-3.17-bioc/R/site-library --timings MOFAdata_1.16.1.tar.gz StartedAt: 2023-10-12 11:43:36 -0400 (Thu, 12 Oct 2023) EndedAt: 2023-10-12 11:44:52 -0400 (Thu, 12 Oct 2023) EllapsedTime: 76.6 seconds RetCode: 0 Status: OK CheckDir: MOFAdata.Rcheck Warnings: 0