Package: MOFAdata Version: 1.16.1 Command: /home/biocbuild/bbs-3.17-bioc/R/bin/R CMD build --keep-empty-dirs --no-resave-data MOFAdata StartedAt: 2023-10-12 10:40:57 -0400 (Thu, 12 Oct 2023) EndedAt: 2023-10-12 10:41:38 -0400 (Thu, 12 Oct 2023) EllapsedTime: 41.5 seconds RetCode: 0 Status: OK PackageFile: MOFAdata_1.16.1.tar.gz PackageFileSize: 44.23 MiB