Package: MMDiffBamSubset Version: 1.36.0 Command: /home/biocbuild/bbs-3.17-bioc/R/bin/R CMD build --keep-empty-dirs --no-resave-data MMDiffBamSubset StartedAt: 2023-10-12 10:40:52 -0400 (Thu, 12 Oct 2023) EndedAt: 2023-10-12 10:41:37 -0400 (Thu, 12 Oct 2023) EllapsedTime: 45.5 seconds RetCode: 0 Status: OK PackageFile: MMDiffBamSubset_1.36.0.tar.gz PackageFileSize: 632.3 MiB