git_url: https://git.bioconductor.org/packages/MMDiffBamSubset git_branch: RELEASE_3_17 git_last_commit: 0a96dfa git_last_commit_date: 2023-04-25 10:32:59 -0400 (Tue, 25 Apr 2023) Package: MMDiffBamSubset Version: 1.36.0 Maintainer: Gabriele Schweikert MaintainerEmail: G.Schweikert at ed.ac.uk