Package: MACSdata Version: 1.8.0 Command: /home/biocbuild/bbs-3.17-bioc/R/bin/R CMD build --keep-empty-dirs --no-resave-data MACSdata StartedAt: 2023-10-12 10:37:18 -0400 (Thu, 12 Oct 2023) EndedAt: 2023-10-12 10:37:19 -0400 (Thu, 12 Oct 2023) EllapsedTime: 1.0 seconds RetCode: 0 Status: OK PackageFile: MACSdata_1.8.0.tar.gz PackageFileSize: 2.711 KiB