Package: LungCancerLines Version: 0.38.0 Command: /home/biocbuild/bbs-3.17-bioc/R/bin/R CMD INSTALL LungCancerLines StartedAt: 2023-10-12 10:08:03 -0400 (Thu, 12 Oct 2023) EndedAt: 2023-10-12 10:08:14 -0400 (Thu, 12 Oct 2023) EllapsedTime: 11.2 seconds RetCode: 0 Status: OK