git_url: https://git.bioconductor.org/packages/LungCancerLines git_branch: RELEASE_3_17 git_last_commit: fbd13de git_last_commit_date: 2023-04-25 10:31:40 -0400 (Tue, 25 Apr 2023) Package: LungCancerLines Version: 0.38.0 Maintainer: Cory Barr MaintainerEmail: barr.cory at gene.com