Package: KEGGdzPathwaysGEO Version: 1.38.0 Command: /home/biocbuild/bbs-3.17-bioc/R/bin/R CMD build --keep-empty-dirs --no-resave-data KEGGdzPathwaysGEO StartedAt: 2023-10-12 10:36:01 -0400 (Thu, 12 Oct 2023) EndedAt: 2023-10-12 10:36:23 -0400 (Thu, 12 Oct 2023) EllapsedTime: 22.0 seconds RetCode: 0 Status: OK PackageFile: KEGGdzPathwaysGEO_1.38.0.tar.gz PackageFileSize: 300.1 MiB