Package: JASPAR2014 Version: 1.36.0 Command: /home/biocbuild/bbs-3.17-bioc/R/bin/R CMD build --keep-empty-dirs --no-resave-data JASPAR2014 StartedAt: 2023-10-12 10:35:37 -0400 (Thu, 12 Oct 2023) EndedAt: 2023-10-12 10:35:44 -0400 (Thu, 12 Oct 2023) EllapsedTime: 7.0 seconds RetCode: 0 Status: OK PackageFile: JASPAR2014_1.36.0.tar.gz PackageFileSize: 42.89 MiB