Package: ITALICSData Version: 2.38.0 Command: /home/biocbuild/bbs-3.17-bioc/R/bin/R CMD INSTALL ITALICSData StartedAt: 2023-10-12 10:00:31 -0400 (Thu, 12 Oct 2023) EndedAt: 2023-10-12 10:00:32 -0400 (Thu, 12 Oct 2023) EllapsedTime: 1.7 seconds RetCode: 0 Status: OK