Package: ITALICSData Version: 2.38.0 Command: /home/biocbuild/bbs-3.17-bioc/R/bin/R CMD build --keep-empty-dirs --no-resave-data ITALICSData StartedAt: 2023-10-12 10:35:28 -0400 (Thu, 12 Oct 2023) EndedAt: 2023-10-12 10:36:42 -0400 (Thu, 12 Oct 2023) EllapsedTime: 74.0 seconds RetCode: 0 Status: OK PackageFile: ITALICSData_2.38.0.tar.gz PackageFileSize: 83.5 MiB