Package: HighlyReplicatedRNASeq Version: 1.12.0 Command: /home/biocbuild/bbs-3.17-bioc/R/bin/R CMD INSTALL HighlyReplicatedRNASeq StartedAt: 2023-10-12 10:07:33 -0400 (Thu, 12 Oct 2023) EndedAt: 2023-10-12 10:07:59 -0400 (Thu, 12 Oct 2023) EllapsedTime: 25.3 seconds RetCode: 0 Status: OK