Package: HighlyReplicatedRNASeq Version: 1.12.0 Command: /home/biocbuild/bbs-3.17-bioc/R/bin/R CMD build --keep-empty-dirs --no-resave-data HighlyReplicatedRNASeq StartedAt: 2023-10-12 10:33:58 -0400 (Thu, 12 Oct 2023) EndedAt: 2023-10-12 10:34:56 -0400 (Thu, 12 Oct 2023) EllapsedTime: 57.7 seconds RetCode: 0 Status: OK PackageFile: HighlyReplicatedRNASeq_1.12.0.tar.gz PackageFileSize: 386.3 KiB