git_url: https://git.bioconductor.org/packages/HighlyReplicatedRNASeq git_branch: RELEASE_3_17 git_last_commit: 25732d9 git_last_commit_date: 2023-04-25 10:48:15 -0400 (Tue, 25 Apr 2023) Package: HighlyReplicatedRNASeq Version: 1.12.0 Maintainer: Constantin Ahlmann-Eltze MaintainerEmail: artjom31415 at googlemail.com