git_url: https://git.bioconductor.org/packages/HiCDataLymphoblast git_branch: RELEASE_3_17 git_last_commit: fe0dee3 git_last_commit_date: 2023-04-25 10:34:49 -0400 (Tue, 25 Apr 2023) Package: HiCDataLymphoblast Version: 1.36.0 Maintainer: Borbala Mifsud MaintainerEmail: b.mifsud at qmul.ac.uk