Package: HSMMSingleCell Version: 1.20.0 Command: /home/biocbuild/bbs-3.17-bioc/R/bin/R CMD build --keep-empty-dirs --no-resave-data HSMMSingleCell StartedAt: 2023-10-12 10:34:54 -0400 (Thu, 12 Oct 2023) EndedAt: 2023-10-12 10:34:56 -0400 (Thu, 12 Oct 2023) EllapsedTime: 2.3 seconds RetCode: 0 Status: OK PackageFile: HSMMSingleCell_1.20.0.tar.gz PackageFileSize: 16.09 MiB