git_url: https://git.bioconductor.org/packages/HSMMSingleCell git_branch: RELEASE_3_17 git_last_commit: 2fb5409 git_last_commit_date: 2023-04-25 10:35:44 -0400 (Tue, 25 Apr 2023) Package: HSMMSingleCell Version: 1.20.0 Maintainer: Cole Trapnell MaintainerEmail: cole at broadinstitute.org