Package: HMP2Data Version: 1.14.0 Command: /home/biocbuild/bbs-3.17-bioc/R/bin/R CMD INSTALL HMP2Data StartedAt: 2023-10-12 10:07:42 -0400 (Thu, 12 Oct 2023) EndedAt: 2023-10-12 10:08:17 -0400 (Thu, 12 Oct 2023) EllapsedTime: 35.0 seconds RetCode: 0 Status: OK