Package: HMP2Data Version: 1.14.0 Command: /home/biocbuild/bbs-3.17-bioc/R/bin/R CMD check --install=check:HMP2Data.install-out.txt --library=/home/biocbuild/bbs-3.17-bioc/R/site-library --timings HMP2Data_1.14.0.tar.gz StartedAt: 2023-10-12 11:30:32 -0400 (Thu, 12 Oct 2023) EndedAt: 2023-10-12 11:35:16 -0400 (Thu, 12 Oct 2023) EllapsedTime: 284.2 seconds RetCode: 0 Status: OK CheckDir: HMP2Data.Rcheck Warnings: 0