Package: HMP2Data Version: 1.14.0 Command: /home/biocbuild/bbs-3.17-bioc/R/bin/R CMD build --keep-empty-dirs --no-resave-data HMP2Data StartedAt: 2023-10-12 10:34:22 -0400 (Thu, 12 Oct 2023) EndedAt: 2023-10-12 10:35:28 -0400 (Thu, 12 Oct 2023) EllapsedTime: 65.6 seconds RetCode: 0 Status: OK PackageFile: HMP2Data_1.14.0.tar.gz PackageFileSize: 5.094 MiB