Package: HMP16SData Version: 1.20.0 Command: /home/biocbuild/bbs-3.17-bioc/R/bin/R CMD INSTALL HMP16SData StartedAt: 2023-10-12 10:05:52 -0400 (Thu, 12 Oct 2023) EndedAt: 2023-10-12 10:06:21 -0400 (Thu, 12 Oct 2023) EllapsedTime: 28.4 seconds RetCode: 0 Status: OK