Package: HMP16SData Version: 1.20.0 Command: /home/biocbuild/bbs-3.17-bioc/R/bin/R CMD check --install=check:HMP16SData.install-out.txt --library=/home/biocbuild/bbs-3.17-bioc/R/site-library --timings HMP16SData_1.20.0.tar.gz StartedAt: 2023-10-12 11:30:25 -0400 (Thu, 12 Oct 2023) EndedAt: 2023-10-12 11:54:14 -0400 (Thu, 12 Oct 2023) EllapsedTime: 1428.6 seconds RetCode: 0 Status: OK CheckDir: HMP16SData.Rcheck Warnings: 0