Package: HMP16SData Version: 1.20.0 Command: /home/biocbuild/bbs-3.17-bioc/R/bin/R CMD build --keep-empty-dirs --no-resave-data HMP16SData StartedAt: 2023-10-12 10:34:20 -0400 (Thu, 12 Oct 2023) EndedAt: 2023-10-12 10:36:36 -0400 (Thu, 12 Oct 2023) EllapsedTime: 135.9 seconds RetCode: 0 Status: OK PackageFile: HMP16SData_1.20.0.tar.gz PackageFileSize: 16.28 MiB