git_url: https://git.bioconductor.org/packages/HIVcDNAvantWout03 git_branch: RELEASE_3_17 git_last_commit: ec33857 git_last_commit_date: 2023-04-25 09:49:48 -0400 (Tue, 25 Apr 2023) Package: HIVcDNAvantWout03 Version: 1.40.0 Maintainer: Chris Fraley MaintainerEmail: fraley at stat.washington.edu