Package: HD2013SGI Version: 1.40.0 Command: /home/biocbuild/bbs-3.17-bioc/R/bin/R CMD INSTALL HD2013SGI StartedAt: 2023-10-12 10:03:10 -0400 (Thu, 12 Oct 2023) EndedAt: 2023-10-12 10:03:24 -0400 (Thu, 12 Oct 2023) EllapsedTime: 14.5 seconds RetCode: 0 Status: OK