Package: GWASdata Version: 1.38.1 Command: /home/biocbuild/bbs-3.17-bioc/R/bin/R CMD INSTALL GWASdata StartedAt: 2023-10-12 10:02:45 -0400 (Thu, 12 Oct 2023) EndedAt: 2023-10-12 10:02:54 -0400 (Thu, 12 Oct 2023) EllapsedTime: 8.6 seconds RetCode: 0 Status: OK