Package: GWASdata Version: 1.38.1 Command: /home/biocbuild/bbs-3.17-bioc/R/bin/R CMD check --install=check:GWASdata.install-out.txt --library=/home/biocbuild/bbs-3.17-bioc/R/site-library --timings GWASdata_1.38.1.tar.gz StartedAt: 2023-10-12 11:27:04 -0400 (Thu, 12 Oct 2023) EndedAt: 2023-10-12 11:27:44 -0400 (Thu, 12 Oct 2023) EllapsedTime: 39.6 seconds RetCode: 0 Status: OK CheckDir: GWASdata.Rcheck Warnings: 0