Package: GWASdata Version: 1.38.1 Command: /home/biocbuild/bbs-3.17-bioc/R/bin/R CMD build --keep-empty-dirs --no-resave-data GWASdata StartedAt: 2023-10-12 10:30:33 -0400 (Thu, 12 Oct 2023) EndedAt: 2023-10-12 10:30:38 -0400 (Thu, 12 Oct 2023) EllapsedTime: 5.3 seconds RetCode: 0 Status: OK PackageFile: GWASdata_1.38.1.tar.gz PackageFileSize: 8.249 MiB