Package: GSE62944 Version: 1.28.1 Command: /home/biocbuild/bbs-3.17-bioc/R/bin/R CMD INSTALL GSE62944 StartedAt: 2023-10-12 10:01:53 -0400 (Thu, 12 Oct 2023) EndedAt: 2023-10-12 10:01:57 -0400 (Thu, 12 Oct 2023) EllapsedTime: 4.5 seconds RetCode: 0 Status: OK