Package: GSE62944 Version: 1.28.1 Command: /home/biocbuild/bbs-3.17-bioc/R/bin/R CMD check --install=check:GSE62944.install-out.txt --library=/home/biocbuild/bbs-3.17-bioc/R/site-library --timings GSE62944_1.28.1.tar.gz StartedAt: 2023-10-12 11:26:48 -0400 (Thu, 12 Oct 2023) EndedAt: 2023-10-12 11:28:11 -0400 (Thu, 12 Oct 2023) EllapsedTime: 82.5 seconds RetCode: 0 Status: OK CheckDir: GSE62944.Rcheck Warnings: 0