git_url: https://git.bioconductor.org/packages/GSE62944 git_branch: RELEASE_3_17 git_last_commit: 127c1ab git_last_commit_date: 2023-06-28 09:33:32 -0400 (Wed, 28 Jun 2023) Package: GSE62944 Version: 1.28.1 Maintainer: Bioconductor Package Maintainer MaintainerEmail: maintainer at bioconductor.org