Package: FIs Version: 1.28.0 Command: /home/biocbuild/bbs-3.17-bioc/R/bin/R CMD check --install=check:FIs.install-out.txt --library=/home/biocbuild/bbs-3.17-bioc/R/site-library --timings FIs_1.28.0.tar.gz StartedAt: 2023-10-12 11:20:54 -0400 (Thu, 12 Oct 2023) EndedAt: 2023-10-12 11:21:06 -0400 (Thu, 12 Oct 2023) EllapsedTime: 12.0 seconds RetCode: 0 Status: OK CheckDir: FIs.Rcheck Warnings: 0