Package: FANTOM3and4CAGE Version: 1.36.0 Command: /home/biocbuild/bbs-3.17-bioc/R/bin/R CMD INSTALL FANTOM3and4CAGE StartedAt: 2023-10-12 10:00:10 -0400 (Thu, 12 Oct 2023) EndedAt: 2023-10-12 10:00:13 -0400 (Thu, 12 Oct 2023) EllapsedTime: 2.4 seconds RetCode: 0 Status: OK