Package: FANTOM3and4CAGE Version: 1.36.0 Command: /home/biocbuild/bbs-3.17-bioc/R/bin/R CMD build --keep-empty-dirs --no-resave-data FANTOM3and4CAGE StartedAt: 2023-10-12 10:25:53 -0400 (Thu, 12 Oct 2023) EndedAt: 2023-10-12 10:26:08 -0400 (Thu, 12 Oct 2023) EllapsedTime: 15.0 seconds RetCode: 0 Status: OK PackageFile: FANTOM3and4CAGE_1.36.0.tar.gz PackageFileSize: 34.6 MiB