git_url: https://git.bioconductor.org/packages/FANTOM3and4CAGE git_branch: RELEASE_3_17 git_last_commit: 86422b8 git_last_commit_date: 2023-04-25 10:32:15 -0400 (Tue, 25 Apr 2023) Package: FANTOM3and4CAGE Version: 1.36.0 Maintainer: Vanja Haberle MaintainerEmail: vanja.haberle at bio.uib.no