Package: EpiMix.data Version: 1.2.2 Command: /home/biocbuild/bbs-3.17-bioc/R/bin/R CMD build --keep-empty-dirs --no-resave-data EpiMix.data StartedAt: 2023-10-12 10:24:31 -0400 (Thu, 12 Oct 2023) EndedAt: 2023-10-12 10:24:50 -0400 (Thu, 12 Oct 2023) EllapsedTime: 19.0 seconds RetCode: 0 Status: OK PackageFile: EpiMix.data_1.2.2.tar.gz PackageFileSize: 5.021 MiB