Package: EatonEtAlChIPseq Version: 0.38.0 Command: /home/biocbuild/bbs-3.17-bioc/R/bin/R CMD INSTALL EatonEtAlChIPseq StartedAt: 2023-10-12 10:08:20 -0400 (Thu, 12 Oct 2023) EndedAt: 2023-10-12 10:08:39 -0400 (Thu, 12 Oct 2023) EllapsedTime: 18.5 seconds RetCode: 0 Status: OK