Package: EatonEtAlChIPseq Version: 0.38.0 Command: /home/biocbuild/bbs-3.17-bioc/R/bin/R CMD check --install=check:EatonEtAlChIPseq.install-out.txt --library=/home/biocbuild/bbs-3.17-bioc/R/site-library --timings EatonEtAlChIPseq_0.38.0.tar.gz StartedAt: 2023-10-12 11:18:02 -0400 (Thu, 12 Oct 2023) EndedAt: 2023-10-12 11:20:28 -0400 (Thu, 12 Oct 2023) EllapsedTime: 146.2 seconds RetCode: 0 Status: WARNINGS CheckDir: EatonEtAlChIPseq.Rcheck Warnings: 1