Package: DuoClustering2018 Version: 1.18.0 Command: /home/biocbuild/bbs-3.17-bioc/R/bin/R CMD build --keep-empty-dirs --no-resave-data DuoClustering2018 StartedAt: 2023-10-12 10:23:54 -0400 (Thu, 12 Oct 2023) EndedAt: 2023-10-12 10:25:47 -0400 (Thu, 12 Oct 2023) EllapsedTime: 112.7 seconds RetCode: 0 Status: OK PackageFile: DuoClustering2018_1.18.0.tar.gz PackageFileSize: 1.935 MiB