git_url: https://git.bioconductor.org/packages/DuoClustering2018 git_branch: RELEASE_3_17 git_last_commit: 4bfc1f6 git_last_commit_date: 2023-04-25 10:45:55 -0400 (Tue, 25 Apr 2023) Package: DuoClustering2018 Version: 1.18.0 Maintainer: Angelo Duò MaintainerEmail: angelo.duo at icloud.com