Package: DropletTestFiles Version: 1.10.0 Command: /home/biocbuild/bbs-3.17-bioc/R/bin/R CMD build --keep-empty-dirs --no-resave-data DropletTestFiles StartedAt: 2023-10-12 10:23:48 -0400 (Thu, 12 Oct 2023) EndedAt: 2023-10-12 10:24:23 -0400 (Thu, 12 Oct 2023) EllapsedTime: 34.9 seconds RetCode: 0 Status: OK PackageFile: DropletTestFiles_1.10.0.tar.gz PackageFileSize: 226.6 KiB