Package: DAPARdata Version: 1.30.4 Command: /home/biocbuild/bbs-3.17-bioc/R/bin/R CMD INSTALL DAPARdata StartedAt: 2023-10-12 10:03:18 -0400 (Thu, 12 Oct 2023) EndedAt: 2023-10-12 10:03:32 -0400 (Thu, 12 Oct 2023) EllapsedTime: 13.8 seconds RetCode: 0 Status: OK