Package: DAPARdata Version: 1.30.4 Command: /home/biocbuild/bbs-3.17-bioc/R/bin/R CMD build --keep-empty-dirs --no-resave-data DAPARdata StartedAt: 2023-10-12 10:21:50 -0400 (Thu, 12 Oct 2023) EndedAt: 2023-10-12 10:22:13 -0400 (Thu, 12 Oct 2023) EllapsedTime: 22.8 seconds RetCode: 0 Status: OK PackageFile: DAPARdata_1.30.4.tar.gz PackageFileSize: 33.24 MiB