Package: ConnectivityMap Version: 1.36.0 Command: /home/biocbuild/bbs-3.17-bioc/R/bin/R CMD build --keep-empty-dirs --no-resave-data ConnectivityMap StartedAt: 2023-10-12 10:19:07 -0400 (Thu, 12 Oct 2023) EndedAt: 2023-10-12 10:19:24 -0400 (Thu, 12 Oct 2023) EllapsedTime: 17.0 seconds RetCode: 0 Status: OK PackageFile: ConnectivityMap_1.36.0.tar.gz PackageFileSize: 236.7 MiB