Package: CoSIAdata Version: 1.0.0 Command: /home/biocbuild/bbs-3.17-bioc/R/bin/R CMD check --install=check:CoSIAdata.install-out.txt --library=/home/biocbuild/bbs-3.17-bioc/R/site-library --timings CoSIAdata_1.0.0.tar.gz StartedAt: 2023-10-12 11:09:07 -0400 (Thu, 12 Oct 2023) EndedAt: 2023-10-12 11:11:31 -0400 (Thu, 12 Oct 2023) EllapsedTime: 144.6 seconds RetCode: 0 Status: OK CheckDir: CoSIAdata.Rcheck Warnings: 0