Package: CoSIAdata Version: 1.0.0 Command: /home/biocbuild/bbs-3.17-bioc/R/bin/R CMD build --keep-empty-dirs --no-resave-data CoSIAdata StartedAt: 2023-10-12 10:19:21 -0400 (Thu, 12 Oct 2023) EndedAt: 2023-10-12 10:19:46 -0400 (Thu, 12 Oct 2023) EllapsedTime: 24.4 seconds RetCode: 0 Status: OK PackageFile: CoSIAdata_1.0.0.tar.gz PackageFileSize: 296.9 KiB